BEGIN:VCALENDAR
VERSION:2.0
PRODID:-//Tukios.com/
BEGIN:VEVENT
UID:6feee2ec-429a-4fe1-bc90-2015a005cd22@www.fosterwarnefuneralhome.com
DTSTAMP:20260425T185027Z
DTSTART:20260509T150000Z
DTEND:20260509T160000Z
SUMMARY:Prayer Service
DESCRIPTION:
URL:https://www.fosterwarnefuneralhome.com/obituaries/donald-olsen
LOCATION:Foster-Warne Funeral Home 820 Haddon Ave  Collingswood NJ 08108
GEO:39.9150505;-75.0659646
END:VEVENT
END:VCALENDAR