BEGIN:VCALENDAR
VERSION:2.0
PRODID:-//Tukios.com/
BEGIN:VEVENT
UID:ff9a3f34-f129-4c3b-9a4f-57738501a87c@www.fosterwarnefuneralhome.com
DTSTAMP:20260426T025528Z
DTSTART:20260428T130000Z
DTEND:20260428T150000Z
SUMMARY:Visitation
DESCRIPTION:
URL:https://www.fosterwarnefuneralhome.com/obituaries/doris-freni
LOCATION: 250 South White Horse Pike  Audubon NJ 08106
GEO:39.8920169;-75.0669804
END:VEVENT
END:VCALENDAR