BEGIN:VCALENDAR
VERSION:2.0
PRODID:-//Tukios.com/
BEGIN:VEVENT
UID:b40928f9-6736-446b-8e41-8a911cb78ec0@www.fosterwarnefuneralhome.com
DTSTAMP:20260426T024855Z
DTSTART:20260428T150000Z
DTEND:20260428T160000Z
SUMMARY:Memorial Service
DESCRIPTION:
URL:https://www.fosterwarnefuneralhome.com/obituaries/doris-freni
LOCATION: 250 South White Horse Pike  Audubon NJ 08106
GEO:39.8920169;-75.0669804
END:VEVENT
END:VCALENDAR