BEGIN:VCALENDAR
VERSION:2.0
PRODID:-//Tukios.com/
BEGIN:VEVENT
UID:24b7b32c-b3ea-4408-ad1a-a71735aa9ca7@www.fosterwarnefuneralhome.com
DTSTAMP:20260426T024855Z
DTSTART:20260428T163000Z
DTEND:20260428T173000Z
SUMMARY:Interment
DESCRIPTION:
URL:https://www.fosterwarnefuneralhome.com/obituaries/doris-freni
LOCATION: 320 Kings Highway  East Greenwich Township NJ 08020
GEO:39.7922703;-75.2205693
END:VEVENT
END:VCALENDAR